BEGIN:VCALENDAR
VERSION:2.0
PRODID:-//Tukios.com/
BEGIN:VEVENT
UID:a8b1709e-1dd4-4794-bc92-b1085bdad502@www.laytonandersonfh.com
DTSTAMP:20260419T223201Z
DTSTART:20260421T210000Z
DTEND:20260421T230000Z
SUMMARY:Visitation
DESCRIPTION:
URL:https://www.laytonandersonfh.com/obituaries/frances-mcgee-mclaughlin
LOCATION:Layton-Anderson Funeral Home 4210 W. Palmetto St  Florence SC 
	29501
GEO:34.1501379;-79.8902091
END:VEVENT
END:VCALENDAR