BEGIN:VCALENDAR
VERSION:2.0
PRODID:-//Tukios.com/
BEGIN:VEVENT
UID:77304bbf-db91-4295-8e4f-684e87169c7f@www.laytonandersonfh.com
DTSTAMP:20260419T222859Z
DTSTART:20260422T180000Z
DTEND:20260422T190000Z
SUMMARY:Funeral Service
DESCRIPTION:
URL:https://www.laytonandersonfh.com/obituaries/frances-mcgee-mclaughlin
LOCATION:Unity Christian Fellowship Church 3652 Olanta Hwy  Timmonsville 
	SC 29161
GEO:34.0082243;-79.8543964
END:VEVENT
END:VCALENDAR