BEGIN:VCALENDAR
VERSION:2.0
PRODID:-//Tukios.com/
BEGIN:VEVENT
UID:cfe93a38-2356-46e2-8abb-08438b60a914@www.laytonandersonfh.com
DTSTAMP:20260423T014218Z
DTSTART:20260503T190000Z
DTEND:20260503T200000Z
SUMMARY:Memorial Service
DESCRIPTION:
URL:https://www.laytonandersonfh.com/obituaries/barbara-mcelveen
LOCATION: 4210 W. Palmetto St  Florence SC 29501
GEO:34.1501379;-79.8902091
END:VEVENT
END:VCALENDAR